BEGIN:VCALENDAR
VERSION:2.0
PRODID:-//ChamberMaster//Event Calendar 2.0//EN
METHOD:PUBLISH
X-PUBLISHED-TTL:P3D
REFRESH-INTERVAL:P3D
CALSCALE:GREGORIAN
BEGIN:VEVENT
DTSTART:20170624T030000Z
DTEND:20170716T210000Z
X-MICROSOFT-CDO-ALLDAYEVENT:FALSE
SUMMARY:"What You Will\," a Shakespearean travesty
DESCRIPTION:The Shakespeare play Shakespeare never wrote! Pear Theatre's 15th season concludes with WHAT YOU WILL\, a "Shakespearean travesty" by Max Gutmann. When Antonio returns from a successful diplomatic mission with a new French bride\, little does he suspect how quickly his happy life is about to fall apart. Can he set things right in time to save his marriage and prevent civil war? Kidnapping\, cross-dressing\, and adultery combine in this madcap comedy\, written by rearranging thousands of snippets cut from the plays of William Shakespeare into a completely new plot. Given a developmental reading at the Pear in 2015\, WHAT YOU WILL returns as a fully staged production.
X-ALT-DESC;FMTTYPE=text/html:The Shakespeare play Shakespeare never wrote! Pear Theatre&#39\;s 15th season concludes with WHAT YOU WILL\, a &ldquo\;Shakespearean travesty&rdquo\; by Max Gutmann. When Antonio returns from a successful diplomatic mission with a new French bride\, little does he suspect how quickly his happy life is about to fall apart. Can he set things right in time to save his marriage and prevent civil war? Kidnapping\, cross-dressing\, and adultery combine in this madcap comedy\, written by rearranging thousands of snippets cut from the plays of William Shakespeare into a completely new plot. Given a developmental reading at the Pear in 2015\, WHAT YOU WILL returns as a fully staged production.
LOCATION:Pear Theatre\, 1110 La Avenida St\, Mountain View CA
UID:e.2592.3363
SEQUENCE:3
DTSTAMP:20260422T090950Z
URL:http://business.chambermv.org/events/details/what-you-will-a-shakespearean-travesty-3363
END:VEVENT

END:VCALENDAR
