BEGIN:VCALENDAR
VERSION:2.0
PRODID:-//ChamberMaster//Event Calendar 2.0//EN
METHOD:PUBLISH
X-PUBLISHED-TTL:P3D
REFRESH-INTERVAL:P3D
CALSCALE:GREGORIAN
BEGIN:VEVENT
DTSTART:20170326T023000Z
DTEND:20170326T033000Z
X-MICROSOFT-CDO-ALLDAYEVENT:FALSE
SUMMARY:Temirzhan Yerzhanov\, Piano
DESCRIPTION:Enjoy the amazing artistry of award-winning pianist Temirzhan Yerzhanov (CSMA faculty) as he explores music full of fantastic and colorful characters\, in Tchaikovsky's popular Children's Album and Mussorgsky's grand Pictures at an Exhibition. Doors open at 7:00pm. Seating is limited\; arrive early.
X-ALT-DESC;FMTTYPE=text/html:Enjoy the amazing artistry of award-winning pianist Temirzhan Yerzhanov (CSMA faculty) as he explores music full of fantastic and colorful characters\, in Tchaikovsky&rsquo\;s popular Children&rsquo\;s Album and Mussorgsky&rsquo\;s grand Pictures at an Exhibition. Doors open at 7:00pm. Seating is limited\; arrive early.
LOCATION:Community School of Music and Arts 230 San Antonio Circle Mountain View CA 94040
UID:e.2592.604
SEQUENCE:3
DTSTAMP:20260421T083649Z
URL:http://business.chambermv.org/events/details/temirzhan-yerzhanov-piano-604
END:VEVENT

END:VCALENDAR
