BEGIN:VCALENDAR
VERSION:2.0
PRODID:-//ChamberMaster//Event Calendar 2.0//EN
METHOD:PUBLISH
X-PUBLISHED-TTL:P3D
REFRESH-INTERVAL:P3D
CALSCALE:GREGORIAN
BEGIN:VEVENT
DTSTART:20160517T183000Z
DTEND:20160517T203000Z
X-MICROSOFT-CDO-ALLDAYEVENT:FALSE
SUMMARY:Success Series Luncheon: Athena Awards and SOAR Scholarship
DESCRIPTION:Athena Awards and SOAR Scholarship Lunch\n \n\nChamber of Commerce Mountain View is proud to announce the 25th Annual ATHENA Award and the 7th Annual ATHENA Young Professional Award. Created to honor an outstanding Mountain View leader and Chamber member\, this award will be presented to a woman and young female professional who has attained and personified the highest level of professional excellence in business and the community.\n\n \nWE ARE HONOREED TO BE RECOGNIZING\n\n\n\n2016 Athena Leadership Awardees\n\nMaria Marroquin\, Executive Director of Day Workers Center\n\nLeane Reelfs\, Owner & Chief Connector\, Helming's Auto Repair\n\n\n\n2016 Young Professional Athena\n\nDiana L. Bautista\, Government Relations Manager\, Lucile Packard Children's Hospital\n\n-------------------------------------\n\n \n\nWe're Giving Away $1\,500 scholarships!\n  The Chamber of Commerce is proud to support our local students and is once again awarding scholarships. Thanks to the support of our members\, this year we are offering $1\,500 scholarships to students from Foothill College\, De Anza College and graduating seniors from the Mountain View Los Altos High School District.\n\n \nPlease check back for SOAR Scholarship recipients!  \n\n-------------------------------------\n\n \n\nPAST ATHENA AWARD RECIPIENTS:\n\n \n  Kathy Thibodeaux (2015)   Jessica Nowaski (2014)   Betsy Nikolchev (2013)   Laura Macias (2012)   Debbie Villa (2011)   Margaret Abe-Koga (2010)   Pamela Martello (2009)   Erin Brennock (2008)   Iris Harrell (2007)   Monique Kane (2006)   Angela McConnell (2005)   Laurie Moore (2004)   Lucinda Tatman (2003)   Susan Hamilton (2001)   Martha Maris (2000)   Karen Cabello (1999)   Nancy Noe (1998)   Kate Wakerly (1997)   Lucille Young (1996)   Jean Hollands (1995)   Jennifer Konecny (1994)   Jane Shaw (1993)   Rosiland Bivings (1992)   Nancy Gee (1991)\n\n \nPAST ATHENA YOUNG PROFESSIONAL RECIPIENTS:\n\n \n  Aila Malik (2015)   Davida Brooks (2014)   Darelda Medina (2013)   Carolyn Hopkins-Vasquez (2012)   Alison Hopkins (2011)   Sara Jorgensen (2010)
X-ALT-DESC;FMTTYPE=text/html:<div style="text-align: center\;"><br />\n<span style="font-size:14px\;"><span style="font-family:arial\;"><strong>Athena Awards and SOAR Scholarship Lunch</strong></span></span></div>\n<span style="font-size:14px\;"><span style="font-family:arial\;">&nbsp\;<br />\nChamber of Commerce Mountain View is proud to announce the 25th Annual ATHENA Award and the 7th Annual ATHENA Young Professional Award. Created to honor an outstanding Mountain View leader and Chamber member\, this award will be presented to a woman and young female professional who has attained and personified the highest level of professional excellence in business and the community.</span></span><br />\n&nbsp\;\n<div style="text-align: center\;"><span style="font-size:14px\;"><span style="font-family:arial\;"><b>WE ARE HONOREED&nbsp\;TO BE RECOGNIZING<br />\n<br />\n2016 Athena Leadership Awardees</b></span><br />\n<span style="font-family:arial\;">Maria Marroquin\, Executive Director of Day Workers Center<br />\nLeane Reelfs\, Owner &amp\; Chief Connector\, Helming&#39\;s Auto Repair<br />\n<br />\n<b>2016 Young Professional Athena</b><br />\nDiana L. Bautista\, Government Relations Manager\,&nbsp\;Lucile Packard Children&#39\;s Hospital</span></span></div>\n\n<div style="text-align: center\;"><span style="font-size:14px\;"><span style="font-family:arial\;">-------------------------------------</span></span></div>\n\n<div>&nbsp\;</div>\n\n<div style="text-align: center\;"><span style="font-size:14px\;"><span style="font-family:arial\;"><strong>We&#39\;re Giving Away $1\,500 scholarships!</strong></span></span></div>\n<span style="font-size:14px\;"> <span style="font-family:arial\;"> The Chamber of Commerce is proud to support our local students and is once again awarding scholarships. Thanks to the support of our members\, this year we are offering $1\,500 scholarships to students from Foothill College\, De Anza College and graduating seniors from the Mountain View Los Altos High School District.</span></span><br />\n&nbsp\;\n<div style="text-align: center\;"><span style="font-size:14px\;"><span style="font-family:arial\;"><strong>Please check back for SOAR Scholarship recipients!</strong></span><span style="font-family: arial\; line-height: 1.6\;">&nbsp\;&nbsp\;</span></span></div>\n\n<div style="line-height: 23.1111px\; text-align: center\;"><span style="font-size:14px\;"><span style="font-family: arial\;">-------------------------------------</span></span></div>\n\n<div>&nbsp\;</div>\n\n<div style="text-align: center\;"><span style="font-size:14px\;"><span style="font-family:arial\;"><strong>PAST ATHENA AWARD RECIPIENTS:</strong></span></span><br />\n&nbsp\;</div>\n<span style="font-size:14px\;"> <span style="font-family:arial\;"> Kathy Thibodeaux (2015) &bull\; Jessica Nowaski (2014) &bull\; Betsy Nikolchev (2013) &bull\; Laura Macias (2012) &bull\; Debbie Villa (2011) &bull\; Margaret Abe-Koga (2010) &bull\; Pamela Martello (2009) &bull\; Erin Brennock (2008) &bull\; Iris Harrell (2007) &bull\; Monique Kane (2006) &bull\; Angela McConnell (2005) &bull\; Laurie Moore (2004) &bull\; Lucinda Tatman (2003) &bull\; Susan Hamilton (2001) &bull\; Martha Maris (2000) &bull\; Karen Cabello (1999) &bull\; Nancy Noe (1998) &bull\; Kate Wakerly (1997) &bull\; Lucille Young (1996) &bull\; Jean Hollands (1995) &bull\; Jennifer Konecny (1994) &bull\; Jane Shaw (1993) &bull\; Rosiland Bivings (1992) &bull\; Nancy Gee (1991)</span></span><br />\n&nbsp\;\n<div style="text-align: center\;"><span style="font-size:14px\;"><span style="font-family:arial\;"><strong>PAST ATHENA YOUNG PROFESSIONAL RECIPIENTS:</strong></span></span><br />\n&nbsp\;</div>\n<span style="font-size:14px\;"> <span style="font-family:arial\;"> Aila Malik (2015) &bull\; Davida Brooks (2014) &bull\; Darelda Medina (2013) &bull\; Carolyn Hopkins-Vasquez (2012) &bull\; Alison Hopkins (2011) &bull\; Sara Jorgensen (2010)</span></span>
LOCATION:Michaels at Shoreline 2960 N Shoreline Blvd\, Mountain View\, CA 94043
UID:e.2592.7
SEQUENCE:3
DTSTAMP:20260421T090155Z
URL:http://business.chambermv.org/events/details/success-series-luncheon-athena-awards-and-soar-scholarship-05-17-2016-7
END:VEVENT

END:VCALENDAR
