BEGIN:VCALENDAR
VERSION:2.0
PRODID:-//ChamberMaster//Event Calendar 2.0//EN
METHOD:PUBLISH
X-PUBLISHED-TTL:P3D
REFRESH-INTERVAL:P3D
CALSCALE:GREGORIAN
BEGIN:VEVENT
DTSTART:20170520T170000Z
DTEND:20170522T003000Z
X-MICROSOFT-CDO-ALLDAYEVENT:FALSE
SUMMARY:Rotary Club of Los Altos - Fine Art in the Park
DESCRIPTION:Since 1976\, on the Saturday after Mother's Day\, and continuing through Sunday\, the Rotary Club of Los Altos presents its annual fundraising event "Fine Art in the Park." Open each day from 10 a.m. to 5:30 p.m.\, and located in Lincoln Park just across Foothill Expressway from Main Street\, it is considered one of the most prestigious art shows in California. This outdoor gallery features the fine art and quality craftwork of 150 juried artists from across the United States. The festivities include live musical entertainment plus a variety of food and beverage booths. New this year are two stages featuring local entertainers. Proceeds from the art show benefit local and international charitable projects. There is free parking at Los Altos High School\, with shuttles to the park.
X-ALT-DESC;FMTTYPE=text/html:Since 1976\, on the Saturday after Mother&#39\;s Day\, and continuing through Sunday\, the Rotary Club of Los Altos presents its annual fundraising event &quot\;Fine Art in the Park.&quot\; Open each day from 10 a.m. to 5:30 p.m.\, and located in Lincoln Park just across Foothill Expressway from Main Street\, it is considered one of the most prestigious art shows in California. This outdoor gallery features the fine art and quality craftwork of 150 juried artists from across the United States. The festivities include live musical entertainment plus a variety of food and beverage booths. New this year are two stages featuring local entertainers. Proceeds from the art show benefit local and international charitable projects. There is free parking at Los Altos High School\, with shuttles to the park.
LOCATION:Lincoln Park\, 199 University Ave.\, Los Altos\, CA
UID:e.2592.2176
SEQUENCE:3
DTSTAMP:20260422T091003Z
URL:http://business.chambermv.org/events/details/rotary-club-of-los-altos-fine-art-in-the-park-2176
END:VEVENT

END:VCALENDAR
