BEGIN:VCALENDAR
VERSION:2.0
PRODID:-//ChamberMaster//Event Calendar 2.0//EN
METHOD:PUBLISH
X-PUBLISHED-TTL:P3D
REFRESH-INTERVAL:P3D
CALSCALE:GREGORIAN
BEGIN:VEVENT
DTSTART:20171101T190000Z
DTEND:20171130T200000Z
X-MICROSOFT-CDO-ALLDAYEVENT:FALSE
SUMMARY:Rengstorff House Art of Gratitude
DESCRIPTION:The Community School of Music and Arts (CSMA) will be a part of the 2017 Rengstorff House Art of Gratitude exhibit from November 1 - November 30. Featured in the show will be student artwork from CSMA's Art4Schools program in the Mountain View elementary schools. The free show is open to the public at the historic Rengstorff House in Mountain View. There will be a reception on November 16th from 5-7pm.
X-ALT-DESC;FMTTYPE=text/html:The Community School of Music and Arts (CSMA) will be a part of the 2017 Rengstorff House Art of Gratitude exhibit from November 1 - November 30. Featured in the show will be student artwork from CSMA&rsquo\;s Art4Schools program in the Mountain View elementary schools. The free show is open to the public at the historic Rengstorff House in Mountain View. There will be a reception on November 16th from 5-7pm.
LOCATION:Rengstorff House 3070 N Shoreline Blvd\, Mountain View\, CA 94043
UID:e.2592.5042
SEQUENCE:3
DTSTAMP:20260421T084530Z
URL:http://business.chambermv.org/events/details/rengstorff-house-art-of-gratitude-5042
END:VEVENT

END:VCALENDAR
