BEGIN:VCALENDAR
VERSION:2.0
PRODID:-//ChamberMaster//Event Calendar 2.0//EN
METHOD:PUBLISH
X-PUBLISHED-TTL:P3D
REFRESH-INTERVAL:P3D
CALSCALE:GREGORIAN
BEGIN:VEVENT
DTSTART:20161002T180000Z
DTEND:20161003T020000Z
X-MICROSOFT-CDO-ALLDAYEVENT:FALSE
SUMMARY:Oktoberfest Mountain View
DESCRIPTION:October 1st and 2nd\n\n\n\nPlease join us for the 4th Annual Mountain View Oktoberfest\, presented by Steins Beer Garden\, Tied House\, and the Mountain View Chamber of Commerce. The Festival will feature authentic German Beer\, Cuisine\, and Entertainment. The huge 7000 sq. ft. Oktoberfest beer tent will keep you shaded while you enjoy a variety of German Beers and socialize with other festival attendees. The Alpiners USA\, SF German Band and Big Lou's Accordion Princess will keep the crowd entertained with Oktoberfest music. Children are welcome and the free kids area will be larger than last year and will include jumpy houses\, face painting\, games and prizes for all of our young ones. Benefiting non-profit organizations SOAR and Community Services Agency of Mountain View.\n\nMust have a stein to consume alcohol. Proper Identification verifying legal age will be required.\n\nPlease remember to take public transportation if possible!\n\n\n\nVisit www.mvoktoberfest.com for more information.
X-ALT-DESC;FMTTYPE=text/html:<div 50px="" background-attachment:="" background-clip:="" background-image:="" background-origin:="" background-position:="" background-repeat:="" background-size:="" color:="" open="" padding-bottom:="">\n<h1 style="text-align: center\;"><br />\n<strong><span style="color:#DAA520\;"><span style="font-family:verdana\;">October 1st and 2nd</span></span></strong></h1>\n</div>\n\n<div background-attachment:="" background-clip:="" background-image:="" background-origin:="" background-position:="" background-repeat:="" background-size:="" open="">\n<p style="text-align: center\;"><span style="font-size:14px\;"><span style="font-family:verdana\;">Please join us for the 4th Annual Mountain View Oktoberfest\, presented by Steins Beer Garden\, Tied House\, and the Mountain View Chamber of Commerce. The Festival will feature authentic German Beer\, Cuisine\, and Entertainment. The huge 7000 sq. ft. Oktoberfest beer tent will keep you shaded while you enjoy a variety of German Beers and socialize with other festival attendees. The Alpiners USA\, SF German Band and Big Lou&rsquo\;s Accordion Princess will keep the crowd entertained with Oktoberfest music. Children are welcome and the free kids area will be larger than last year and will include jumpy houses\, face painting\, games and prizes for all of our young ones. Benefiting non-profit organizations SOAR and Community Services Agency of Mountain View.</span></span></p>\n\n<p style="text-align: center\;"><span style="font-size:14px\;"><span style="font-family:verdana\;">Must have a stein to consume alcohol. Proper Identification verifying legal age will be required.</span></span></p>\n\n<p style="text-align: center\;"><span style="font-size:14px\;"><span style="font-family:verdana\;">Please remember to take public transportation if possible!<br />\n<br />\nVisit&nbsp\;<a href="http://www.mvoktoberfest.com">www.mvoktoberfest.com</a> for more information.&nbsp\;</span></span></p>\n</div>\n
LOCATION:Bryant St. at Dana St.\, Mountain View\, CA 94041 (parking lot behind Steins Beer Garden & Restaurant 1 block West of Castro Street)
UID:e.2592.516
SEQUENCE:3
DTSTAMP:20260422T090839Z
URL:http://business.chambermv.org/events/details/oktoberfest-mountain-view-516
END:VEVENT

END:VCALENDAR
