BEGIN:VCALENDAR
VERSION:2.0
PRODID:-//ChamberMaster//Event Calendar 2.0//EN
METHOD:PUBLISH
X-PUBLISHED-TTL:P3D
REFRESH-INTERVAL:P3D
CALSCALE:GREGORIAN
BEGIN:VEVENT
DTSTART:20170307T033000Z
DTEND:20170307T043000Z
X-MICROSOFT-CDO-ALLDAYEVENT:FALSE
SUMMARY:Music and Children with Autism: A Practical Guide for Parents and Caregivers
DESCRIPTION:Ball State University music educator Dr. Ryan Hourigan will discuss how the arts can help parents and caregivers connect and engage with their children. Artistic and non-artistic parents and caregivers will discover a variety of activities and techniques to take home and try with their children. Dr. Hourigan will be joined by Amy Hourigan (MT-BC)\, a licensed music therapist.
X-ALT-DESC;FMTTYPE=text/html:Ball State University music educator Dr. Ryan Hourigan will discuss how the arts can help parents and caregivers connect and engage with their children. Artistic and non-artistic parents and caregivers will discover a variety of activities and techniques to take home and try with their children. Dr. Hourigan will be joined by Amy Hourigan (MT-BC)\, a licensed music therapist.
LOCATION:Tateuchi Hall\, Community School of Music and Arts 230 San Antonio Circle\, Mountain View
UID:e.2592.597
SEQUENCE:3
DTSTAMP:20260422T091008Z
URL:http://business.chambermv.org/events/details/music-and-children-with-autism-a-practical-guide-for-parents-and-caregivers-597
END:VEVENT

END:VCALENDAR
