BEGIN:VCALENDAR
VERSION:2.0
PRODID:-//ChamberMaster//Event Calendar 2.0//EN
METHOD:PUBLISH
X-PUBLISHED-TTL:P3D
REFRESH-INTERVAL:P3D
CALSCALE:GREGORIAN
BEGIN:VEVENT
DTSTART:20170212T010000Z
DTEND:20170212T020000Z
X-MICROSOFT-CDO-ALLDAYEVENT:FALSE
SUMMARY:Merit Scholarship Students of Ludmila Kurtova
DESCRIPTION:Outstanding CSMA Merit Scholarship students of Distinguished Teacher (and internationally-acclaimed pianist) Ludmila Kurtova perform music by various composers. Enjoy the talents of these exceptional young musicians! Doors open at 4:30pm. Seating is limited\; arrive early!
X-ALT-DESC;FMTTYPE=text/html:Outstanding CSMA Merit Scholarship students of Distinguished Teacher (and internationally-acclaimed pianist) Ludmila Kurtova perform music by various composers. Enjoy the talents of these exceptional young musicians! Doors open at 4:30pm. Seating is limited\; arrive early!
LOCATION:Tateuchi Hall\, Community School of Music and Arts
UID:e.2592.578
SEQUENCE:3
DTSTAMP:20260420T090701Z
URL:http://business.chambermv.org/events/details/merit-scholarship-students-of-ludmila-kurtova-578
END:VEVENT

END:VCALENDAR
