BEGIN:VCALENDAR
VERSION:2.0
PRODID:-//ChamberMaster//Event Calendar 2.0//EN
METHOD:PUBLISH
X-PUBLISHED-TTL:P3D
REFRESH-INTERVAL:P3D
CALSCALE:GREGORIAN
BEGIN:VEVENT
DTSTART:20160715T013000Z
DTEND:20160715T033000Z
X-MICROSOFT-CDO-ALLDAYEVENT:FALSE
SUMMARY:Finding Your Wine Personality
DESCRIPTION:The Boisset Wine Ambassadors will guide you through a wine tasting that explores your wine style. They'll serve as your personal wine concierge   sharing exclusive new releases\, the stories behind the wines and the vineyards\, and the knowledge to guide you to wines best-suited for your palate. Join us as wine and style unite\, and embrace l'art de vivre!
X-ALT-DESC;FMTTYPE=text/html:The Boisset Wine Ambassadors will guide you through a wine tasting that explores your wine style. They&rsquo\;ll serve as your personal wine concierge &ndash\; sharing exclusive new releases\, the stories behind the wines and the vineyards\, and the knowledge to guide you to wines best-suited for your palate. Join us as wine and style unite\, and embrace l&rsquo\;art de vivre!
LOCATION:Oshman Family JCC 3921 Fabian Way\, Palo Alto
UID:e.2592.416
SEQUENCE:3
DTSTAMP:20260421T085712Z
URL:http://business.chambermv.org/events/details/finding-your-wine-personality-07-14-2016-416
END:VEVENT

END:VCALENDAR
