BEGIN:VCALENDAR
VERSION:2.0
PRODID:-//ChamberMaster//Event Calendar 2.0//EN
METHOD:PUBLISH
X-PUBLISHED-TTL:P3D
REFRESH-INTERVAL:P3D
CALSCALE:GREGORIAN
BEGIN:VEVENT
DTSTART:20170504T144500Z
DTEND:20170504T170000Z
X-MICROSOFT-CDO-ALLDAYEVENT:FALSE
SUMMARY:Financial Planning and Lending For Small Business Owners
DESCRIPTION:We are thrilled to have partnered again with the Office of Economic Development of the City of Sunnyvale\, Bank of America Merrill Lynch and Tech Credit of Silicon Valley on an exciting new small business workshop which focuses on business lending\, financial planning\, business growth\, operational efficiency and cash management.\n\n\n\nOur speakers are seasoned small business banking experts who are eager to speak with you all and help you take you businesses to the next level.\n\nMathew Bradley\, Vice President\, Small Business Banking/ Bank of America Merrill Lynch\n\nJoe Anzalone\, Executive Vice President and Commercial Banking Officer/Tech Credit Union\n\n\n\nRegistration link: https://www.eventbrite.com/e/small-business-ignite-sunnyvale-small-business-growth-lending-and-financial-planning-workshop-tickets-33409919970\n\n\n\nThe workshop is FREE and includes a mentoring and networking session. Please see the event flyer below. We are hoping to see many of you there! And don't forget to spread the word.\n\n\n\nIf you have any questions\, please send emails to masha@svtpca.org
X-ALT-DESC;FMTTYPE=text/html:<br />\nWe are thrilled to have partnered again with the Office of Economic Development of the City of Sunnyvale\, Bank of America Merrill Lynch and Tech Credit of Silicon Valley on an exciting new small business workshop which focuses on business lending\, financial planning\, business growth\, operational efficiency and cash management.<br />\n<br />\nOur speakers are seasoned small business banking experts who are eager to speak with you all and help you take you businesses to the next level.<br />\nMathew Bradley\, Vice President\, Small Business Banking/ Bank of America Merrill Lynch<br />\nJoe Anzalone\, Executive Vice President and Commercial Banking Officer/Tech Credit Union<br />\n<br />\nRegistration link: <a data-saferedirecturl="https://www.google.com/url?hl=en&amp\;q=https://www.eventbrite.com/e/small-business-ignite-sunnyvale-small-business-growth-lending-and-financial-planning-workshop-tickets-33409919970&amp\;source=gmail&amp\;ust=1493750458571000&amp\;usg=AFQjCNFLhUFjKYBjfB6BcCQ2l5TyxxXGTA" href="https://www.eventbrite.com/e/small-business-ignite-sunnyvale-small-business-growth-lending-and-financial-planning-workshop-tickets-33409919970" id="m_3194468107043346826LPlnk756026" target="_blank">https://www.eventbrite.com/e/<wbr />small-business-ignite-<wbr />sunnyvale-small-business-<wbr />growth-lending-and-financial-<wbr />planning-workshop-tickets-<wbr />33409919970</a><br />\n<br />\nThe workshop is FREE and includes a mentoring and networking session. Please see the event flyer below. We are hoping to see many of you there! And don&#39\;t forget to spread the word.<br />\n<br />\nIf you have any questions\, please send emails to masha@svtpca.org
LOCATION:NOVA Center\, 505 W Olive Ave\, Ste. 510\, Sunnyvale\, CA 94086
UID:e.2592.2311
SEQUENCE:3
DTSTAMP:20260422T090938Z
URL:http://business.chambermv.org/events/details/financial-planning-and-lending-for-small-business-owners-2311
END:VEVENT

END:VCALENDAR
