BEGIN:VCALENDAR
VERSION:2.0
PRODID:-//ChamberMaster//Event Calendar 2.0//EN
METHOD:PUBLISH
X-PUBLISHED-TTL:P3D
REFRESH-INTERVAL:P3D
CALSCALE:GREGORIAN
BEGIN:VEVENT
DTSTART:20170304T210000Z
DTEND:20170304T213000Z
X-MICROSOFT-CDO-ALLDAYEVENT:FALSE
SUMMARY:Estate Planning for Families with Minor Children
DESCRIPTION:If you are the parent of minor children\, do you have a contingency plan to provide for and protect your children if the unthinkable happens and you are no longer around to take care of them ? Who would you want to raise them? Would they be taught the values you want them to have? Who would manage their finances? Attendees will learn why planning is important and how to develop a contingency plan.
X-ALT-DESC;FMTTYPE=text/html:If you are the parent of minor children\, do you have a contingency plan to provide for and protect your children if the unthinkable happens and you are no longer around to take care of them ? Who would you want to raise them? Would they be taught the values you want them to have? Who would manage their finances? Attendees will learn why planning is important and how to develop a contingency plan.
LOCATION:Mountain Viepin Hide Map Mountain View Public Library 585 Franklin St\, Mountain View\, California 94041
UID:e.2592.621
SEQUENCE:3
DTSTAMP:20260422T091055Z
URL:http://business.chambermv.org/events/details/estate-planning-for-families-with-minor-children-621
END:VEVENT

END:VCALENDAR
