BEGIN:VCALENDAR
VERSION:2.0
PRODID:-//ChamberMaster//Event Calendar 2.0//EN
METHOD:PUBLISH
X-PUBLISHED-TTL:P3D
REFRESH-INTERVAL:P3D
CALSCALE:GREGORIAN
BEGIN:VEVENT
DTSTART:20170505T180000Z
DTEND:20170505T200000Z
X-MICROSOFT-CDO-ALLDAYEVENT:FALSE
SUMMARY:Chase for Business - Business Appreciation Week
DESCRIPTION:You are cordially invited to celebrate Small Business Appreciation Week hosted by your local Mountain View Chase Branch and Chase for Business.\n\n\n\nGuest Speakers:\n\nSpecial Agent Kiro Marder\n\nFBI White Collar Crime Division\n\n& Ryan Ervin\, Chase Treasury Management Specialist\n\n\n\nWe will discuss the current fraud environment that impacts corporations and business owners.\n\n\n\nCome join us for food\, fun\, gifts\, promos\, and lots of great information!\n\n\n\nPlease RSVP by May 4th\n\nCarlos Quintero\n\nBusiness Relationship Manager\n\ncarlos.quintero@chase.com
X-ALT-DESC;FMTTYPE=text/html:You are cordially invited to celebrate Small Business Appreciation Week hosted by your local Mountain View Chase Branch and Chase for Business.<br />\n<br />\nGuest Speakers:<br />\nSpecial Agent Kiro Marder<br />\nFBI White Collar Crime Division<br />\n&amp\; Ryan Ervin\, Chase Treasury Management Specialist<br />\n<br />\nWe will discuss the current fraud environment that impacts corporations and business owners.<br />\n<br />\nCome join us for food\, fun\, gifts\, promos\, and lots of great information!<br />\n<br />\nPlease RSVP by May 4th<br />\nCarlos Quintero<br />\nBusiness Relationship Manager<br />\ncarlos.quintero@chase.com<br />\n&nbsp\;
LOCATION:Chase Mountain View Branch 749 W. El Camino Real Mountain View\, CA 94040
UID:e.2592.3312
SEQUENCE:3
DTSTAMP:20260420T125704Z
URL:http://business.chambermv.org/events/details/chase-for-business-business-appreciation-week-3312
END:VEVENT

END:VCALENDAR
