BEGIN:VCALENDAR
VERSION:2.0
PRODID:-//ChamberMaster//Event Calendar 2.0//EN
METHOD:PUBLISH
X-PUBLISHED-TTL:P3D
REFRESH-INTERVAL:P3D
CALSCALE:GREGORIAN
BEGIN:VEVENT
DTSTART:20160122T010000Z
DTEND:20160122T030000Z
X-MICROSOFT-CDO-ALLDAYEVENT:FALSE
SUMMARY:Business Mixer: Tri City
DESCRIPTION:Tri City Mixer
X-ALT-DESC;FMTTYPE=text/html:Tri City Mixer&nbsp\;&nbsp\;&nbsp\;&nbsp\;
LOCATION:Crowne Plaza 4290 El Camino Real Palo Alto\, CA 94306
UID:e.2592.1
SEQUENCE:3
DTSTAMP:20260421T084103Z
URL:http://business.chambermv.org/events/details/business-mixer-tri-city-01-21-2016-1
END:VEVENT

END:VCALENDAR
